BEGIN:VCALENDAR
VERSION:2.0
PRODID:-//Plone.org//NONSGML plone.app.event//EN
X-WR-TIMEZONE:Europe/Madrid
BEGIN:VEVENT
SUMMARY:Taller de ball country
DTSTART;TZID=Europe/Madrid;VALUE=DATE-TIME:20180427T174500
DTEND;TZID=Europe/Madrid;VALUE=DATE-TIME:20180427T184500
DTSTAMP;VALUE=DATE-TIME:20260421T212640Z
UID:44794dd9c0911ec720915b46be97ce0e
CREATED;VALUE=DATE-TIME:20180427T000000Z
CATEGORIES:Dansa
LOCATION:La Clau - c. Alguersuari, 16
ORGANIZER:Banc del Temps
COMMENT:Preu: Intercanvi de temps
DESCRIPTION:Activitats del Banc del Temps
URL:https://www.santceloni.cat/document.php?id=20681
END:VEVENT
END:VCALENDAR