BEGIN:VCALENDAR
VERSION:2.0
PRODID:-//Plone.org//NONSGML plone.app.event//EN
X-WR-TIMEZONE:Europe/Madrid
BEGIN:VEVENT
SUMMARY:Inauguració de l'exposició dels alumnes del Taller/Escola de ceràmica JORCA
DTSTART;TZID=Europe/Madrid;VALUE=DATE-TIME:20180512T180000
DTEND;TZID=Europe/Madrid;VALUE=DATE-TIME:20180512T190000
DTSTAMP;VALUE=DATE-TIME:20260422T044521Z
UID:22f754df6c1a973526fddee6b907f4e7
CREATED;VALUE=DATE-TIME:20180512T000000Z
CATEGORIES:Exposició
LOCATION:Can Ramis - Pl. de la Vila, 25
ORGANIZER:Taller/Escola de Ceràmica JORCA i Centre Municipal d'Expressió de Sant Celoni.
COMMENT:Durada: Del 12 al 27 de maig
URL:https://www.santceloni.cat/document.php?id=20710
END:VEVENT
END:VCALENDAR