BEGIN:VCALENDAR
VERSION:2.0
PRODID:-//Plone.org//NONSGML plone.app.event//EN
X-WR-TIMEZONE:Europe/Madrid
BEGIN:VEVENT
SUMMARY:Bitxos, amb la Cia. Patawa
DTSTART;TZID=Europe/Madrid;VALUE=DATE-TIME:20180608T180000
DTEND;TZID=Europe/Madrid;VALUE=DATE-TIME:20180608T190000
DTSTAMP;VALUE=DATE-TIME:20260421T211919Z
UID:23478f97ca03c732362b0268693bf538
CREATED;VALUE=DATE-TIME:20180608T000000Z
CATEGORIES:Infantils
LOCATION:Biblioteca l'Escorxador - Pg. de la Rectoria Vella, 10
DESCRIPTION:Contes per a menuts. Cal inscripció prèvia!
URL:https://www.santceloni.cat/document.php?id=20739
END:VEVENT
END:VCALENDAR