BEGIN:VCALENDAR
VERSION:2.0
PRODID:-//Plone.org//NONSGML plone.app.event//EN
X-WR-TIMEZONE:Europe/Madrid
BEGIN:VEVENT
SUMMARY:Torneig de l'amistat de petanca
DTSTART;TZID=Europe/Madrid;VALUE=DATE-TIME:20070911T080000
DTEND;TZID=Europe/Madrid;VALUE=DATE-TIME:20070911T090000
DTSTAMP;VALUE=DATE-TIME:20260419T210123Z
UID:bbc0c937c3ef1a8539034bc263dcc400
CREATED;VALUE=DATE-TIME:20070911T000000Z
CATEGORIES:Esports,Festa
LOCATION:Pistes municipals de petanca
ORGANIZER:Club Petanca les Borrelles
URL:https://www.santceloni.cat/document.php?id=2085
END:VEVENT
END:VCALENDAR