BEGIN:VCALENDAR
VERSION:2.0
PRODID:-//Plone.org//NONSGML plone.app.event//EN
X-WR-TIMEZONE:Europe/Madrid
BEGIN:VEVENT
SUMMARY:Recapte d'aliments
DTSTART;TZID=Europe/Madrid;VALUE=DATE-TIME:20180609T100000
DTEND;TZID=Europe/Madrid;VALUE=DATE-TIME:20180609T110000
DTSTAMP;VALUE=DATE-TIME:20260422T023616Z
UID:d10640a96a6ef111a89f5bfcad26077f
CREATED;VALUE=DATE-TIME:20180608T000000Z
LOCATION:Supermercats de Sant Celoni
ORGANIZER:Càritas, Creu Roja i Ajuntament de Sant Celoni
COMMENT:Durada: Tot el dia
DESCRIPTION:Als supermercats de Sant Celoni
URL:https://www.santceloni.cat/document.php?id=20877
END:VEVENT
END:VCALENDAR