BEGIN:VCALENDAR
VERSION:2.0
PRODID:-//Plone.org//NONSGML plone.app.event//EN
X-WR-TIMEZONE:Europe/Madrid
BEGIN:VEVENT
SUMMARY:Inauguració plaça Muriel Casals i carrer Srta. Rosita
DTSTART;TZID=Europe/Madrid;VALUE=DATE-TIME:20180608T180000
DTEND;TZID=Europe/Madrid;VALUE=DATE-TIME:20180608T190000
DTSTAMP;VALUE=DATE-TIME:20260422T043731Z
UID:9d2a723af16076e859c96b633c60d04a
CREATED;VALUE=DATE-TIME:20180608T000000Z
LOCATION:Plaça Muriel Casals (davant l'Institut)
DESCRIPTION:ATENCIÓ: CANVI DE DATA, PASSA A 15 de JUNY
URL:https://www.santceloni.cat/document.php?id=20886
END:VEVENT
END:VCALENDAR