BEGIN:VCALENDAR
VERSION:2.0
PRODID:-//Plone.org//NONSGML plone.app.event//EN
X-WR-TIMEZONE:Europe/Madrid
BEGIN:VEVENT
SUMMARY:Jam de swing
DTSTART;TZID=Europe/Madrid;VALUE=DATE-TIME:20180601T200000
DTEND;TZID=Europe/Madrid;VALUE=DATE-TIME:20180601T210000
DTSTAMP;VALUE=DATE-TIME:20260422T045635Z
UID:424cf633372b3cc5592974e825829178
CREATED;VALUE=DATE-TIME:20180601T000000Z
CATEGORIES:Dansa
LOCATION:Teatre Ateneu, Sala Petita - Ctra. Vella, 25
ORGANIZER:Swingangsters del Montseny (associació)
COMMENT:Preu: Gratuïta
Durada: de 20 a 22h
DESCRIPTION:Swingangsters del Montseny
URL:https://www.santceloni.cat/document.php?id=20905
END:VEVENT
END:VCALENDAR