BEGIN:VCALENDAR
VERSION:2.0
PRODID:-//Plone.org//NONSGML plone.app.event//EN
X-WR-TIMEZONE:Europe/Madrid
BEGIN:VEVENT
SUMMARY:Ball de l'Esplai a l'Ateneu amb Odisea
DTSTART;TZID=Europe/Madrid;VALUE=DATE-TIME:20180701T180000
DTEND;TZID=Europe/Madrid;VALUE=DATE-TIME:20180701T190000
DTSTAMP;VALUE=DATE-TIME:20260422T005637Z
UID:180a6c819fea27b8fdf2b05ca9869789
CREATED;VALUE=DATE-TIME:20180701T000000Z
CATEGORIES:Música
LOCATION:Teatre Ateneu, Sala Gran - Ctra. Vella, 25
ORGANIZER:Esplai de la Gent Gran col-labora Ajuntament de Sant Celoni
COMMENT:Preu: 5 &euro; socis, 6 &euro; no socis
DESCRIPTION:Activitats de l'Esplai de Gent Gran
URL:https://www.santceloni.cat/document.php?id=20952
END:VEVENT
END:VCALENDAR