BEGIN:VCALENDAR
VERSION:2.0
PRODID:-//Plone.org//NONSGML plone.app.event//EN
X-WR-TIMEZONE:Europe/Madrid
BEGIN:VEVENT
SUMMARY:El món a debat
DTSTART;TZID=Europe/Madrid;VALUE=DATE-TIME:20180703T183000
DTEND;TZID=Europe/Madrid;VALUE=DATE-TIME:20180703T193000
DTSTAMP;VALUE=DATE-TIME:20260422T051753Z
UID:ca8f3b7669562ce2b7bd0e54fa04e36f
CREATED;VALUE=DATE-TIME:20180703T000000Z
LOCATION:Biblioteca l'Escorxador - Pg. de la Rectoria Vella, 10
DESCRIPTION:Cicle de debats. Procés
URL:https://www.santceloni.cat/document.php?id=21040
END:VEVENT
END:VCALENDAR