BEGIN:VCALENDAR
VERSION:2.0
PRODID:-//Plone.org//NONSGML plone.app.event//EN
X-WR-TIMEZONE:Europe/Madrid
BEGIN:VEVENT
SUMMARY:Ball a l'Esplai amb Silvia
DTSTART;TZID=Europe/Madrid;VALUE=DATE-TIME:20180815T173000
DTEND;TZID=Europe/Madrid;VALUE=DATE-TIME:20180815T183000
DTSTAMP;VALUE=DATE-TIME:20260420T013159Z
UID:f4b7045cbb85e92eb17270911a663912
CREATED;VALUE=DATE-TIME:20180815T000000Z
CATEGORIES:Música
LOCATION:Casal de l'Esplai de Gent Gran - Balmes, 36
ORGANIZER:Esplai de la Gent Gran
COMMENT:Preu: 4 &euro; socis, 5 &euro; no socis
DESCRIPTION:Activitats de l'Esplai de Gent Gran
URL:https://www.santceloni.cat/document.php?id=21089
END:VEVENT
END:VCALENDAR