BEGIN:VCALENDAR
VERSION:2.0
PRODID:-//Plone.org//NONSGML plone.app.event//EN
X-WR-TIMEZONE:Europe/Madrid
BEGIN:VEVENT
SUMMARY:Sorteig Torna a l'escola de Sant Celoni Comerç
DTSTART;TZID=Europe/Madrid;VALUE=DATE-TIME:20070929T180000
DTEND;TZID=Europe/Madrid;VALUE=DATE-TIME:20070929T190000
DTSTAMP;VALUE=DATE-TIME:20260419T212041Z
UID:86df195ec0ec28bf8c2e3f8e701e452f
CREATED;VALUE=DATE-TIME:20070929T000000Z
CATEGORIES:Festa,Infantils
LOCATION:Plaça de la Vila
ORGANIZER:Sant Celoni Comerç
DESCRIPTION:Xoclolatada amb xurros pels assistents
URL:https://www.santceloni.cat/document.php?id=2121
END:VEVENT
END:VCALENDAR