BEGIN:VCALENDAR
VERSION:2.0
PRODID:-//Plone.org//NONSGML plone.app.event//EN
X-WR-TIMEZONE:Europe/Madrid
BEGIN:VEVENT
SUMMARY:Lentament, amb Marta Esmarats
DTSTART;TZID=Europe/Madrid;VALUE=DATE-TIME:20181005T171500
DTEND;TZID=Europe/Madrid;VALUE=DATE-TIME:20181005T181500
DTSTAMP;VALUE=DATE-TIME:20260422T142209Z
UID:7463e576f3172a1a0b134f36098dfc62
CREATED;VALUE=DATE-TIME:20181005T000000Z
CATEGORIES:Infantils
LOCATION:Biblioteca l'Escorxador - Pg. de la Rectoria Vella, 10
DESCRIPTION:Hora del conte per a menuts. Cal inscripció prèvia
URL:https://www.santceloni.cat/document.php?id=21343
END:VEVENT
END:VCALENDAR