BEGIN:VCALENDAR
VERSION:2.0
PRODID:-//Plone.org//NONSGML plone.app.event//EN
X-WR-TIMEZONE:Europe/Madrid
BEGIN:VEVENT
SUMMARY:Taller 'Creant el meu mandala'
DTSTART;TZID=Europe/Madrid;VALUE=DATE-TIME:20181006T110000
DTEND;TZID=Europe/Madrid;VALUE=DATE-TIME:20181006T120000
DTSTAMP;VALUE=DATE-TIME:20260420T162806Z
UID:604cf82923be3997784f2c23cdd7c232
CREATED;VALUE=DATE-TIME:20181006T000000Z
LOCATION:Biblioteca l'Escorxador - Pg. de la Rectoria Vella, 10
DESCRIPTION:Taller per a adults
URL:https://www.santceloni.cat/document.php?id=21345
END:VEVENT
END:VCALENDAR