BEGIN:VCALENDAR
VERSION:2.0
PRODID:-//Plone.org//NONSGML plone.app.event//EN
X-WR-TIMEZONE:Europe/Madrid
BEGIN:VEVENT
SUMMARY:Música per a menuts (infants de 24 a 36 mesos)
DTSTART;TZID=Europe/Madrid;VALUE=DATE-TIME:20181213T160000
DTEND;TZID=Europe/Madrid;VALUE=DATE-TIME:20181213T170000
DTSTAMP;VALUE=DATE-TIME:20260421T134718Z
UID:2335a0710770f9f3906c167169378bce
CREATED;VALUE=DATE-TIME:20181213T000000Z
CATEGORIES:Cursos,Infantils,Música
LOCATION:Centre Municipal d'Expressió - Sant Josep, 18
COMMENT:Durada: De 16 a 16.45h
URL:https://www.santceloni.cat/document.php?id=21400
END:VEVENT
END:VCALENDAR