BEGIN:VCALENDAR
VERSION:2.0
PRODID:-//Plone.org//NONSGML plone.app.event//EN
X-WR-TIMEZONE:Europe/Madrid
BEGIN:VEVENT
SUMMARY:Fira del Bosc
DTSTART;TZID=Europe/Madrid;VALUE=DATE-TIME:20181021T100000
DTEND;TZID=Europe/Madrid;VALUE=DATE-TIME:20181021T110000
DTSTAMP;VALUE=DATE-TIME:20260420T211335Z
UID:724704563358fdb52a30dd750016a040
CREATED;VALUE=DATE-TIME:20181021T000000Z
CATEGORIES:Festa,Infantils,Música,Conferència
LOCATION:Parc i jardins de la Rectoria Vella - Parc de la Rectoria Vella
COMMENT:Durada: Tot el dia
DESCRIPTION:IV Setmana del Bosc
URL:https://www.santceloni.cat/document.php?id=21457
END:VEVENT
END:VCALENDAR