BEGIN:VCALENDAR
VERSION:2.0
PRODID:-//Plone.org//NONSGML plone.app.event//EN
X-WR-TIMEZONE:Europe/Madrid
BEGIN:VEVENT
SUMMARY:Taller de ball country
DTSTART;TZID=Europe/Madrid;VALUE=DATE-TIME:20181030T170000
DTEND;TZID=Europe/Madrid;VALUE=DATE-TIME:20181030T180000
DTSTAMP;VALUE=DATE-TIME:20260422T110026Z
UID:cc1658ea0e468f8c28320ff19a8f4033
CREATED;VALUE=DATE-TIME:20181030T000000Z
CATEGORIES:Dansa
LOCATION:Pavelló Municipal d'Esports - Av. Catalunya, s/n
ORGANIZER:Banc de Temps
COMMENT:Preu: Intercanvi de temps
DESCRIPTION:Activitats del Banc del Temps
URL:https://www.santceloni.cat/document.php?id=21512
END:VEVENT
END:VCALENDAR