BEGIN:VCALENDAR
VERSION:2.0
PRODID:-//Plone.org//NONSGML plone.app.event//EN
X-WR-TIMEZONE:Europe/Madrid
BEGIN:VEVENT
SUMMARY:Little red riding hood, a different story, a càrrec d'Iris Leyers
DTSTART;TZID=Europe/Madrid;VALUE=DATE-TIME:20181114T180000
DTEND;TZID=Europe/Madrid;VALUE=DATE-TIME:20181114T190000
DTSTAMP;VALUE=DATE-TIME:20260420T134331Z
UID:4ef7460267617e70afe8024b4dcb5fb2
CREATED;VALUE=DATE-TIME:20181114T000000Z
CATEGORIES:Literatura,Infantils
LOCATION:Unió Batllorienca - c. Breda, 2
DESCRIPTION:Hora del conte en anglès a la Batllòria
URL:https://www.santceloni.cat/document.php?id=21514
END:VEVENT
END:VCALENDAR