BEGIN:VCALENDAR
VERSION:2.0
PRODID:-//Plone.org//NONSGML plone.app.event//EN
X-WR-TIMEZONE:Europe/Madrid
BEGIN:VEVENT
SUMMARY:La fàbrica de les històries. A càrrec de Montse Vilà Portet
DTSTART;TZID=Europe/Madrid;VALUE=DATE-TIME:20181222T103000
DTEND;TZID=Europe/Madrid;VALUE=DATE-TIME:20181222T113000
DTSTAMP;VALUE=DATE-TIME:20260422T172116Z
UID:11961d4a2bee65b2ba52445d6014e2b4
CREATED;VALUE=DATE-TIME:20181222T000000Z
CATEGORIES:Literatura,Infantils
LOCATION:Biblioteca l'Escorxador - Pg. de la Rectoria Vella, 10
DESCRIPTION:BiblioLab. Cal inscripció prèvia
URL:https://www.santceloni.cat/document.php?id=21613
END:VEVENT
END:VCALENDAR