BEGIN:VCALENDAR
VERSION:2.0
PRODID:-//Plone.org//NONSGML plone.app.event//EN
X-WR-TIMEZONE:Europe/Madrid
BEGIN:VEVENT
SUMMARY:Concert de Santa Cecília
DTSTART;TZID=Europe/Madrid;VALUE=DATE-TIME:20181120T210000
DTEND;TZID=Europe/Madrid;VALUE=DATE-TIME:20181120T220000
DTSTAMP;VALUE=DATE-TIME:20260422T124257Z
UID:d4f22eebc61c4e02b367139dc3e70272
CREATED;VALUE=DATE-TIME:20181120T000000Z
CATEGORIES:Música
LOCATION:Centre Municipal d'Expressió - Ctra. Vella, 25
ORGANIZER:Escola municipal de música
COMMENT:Preu: Gratuït
URL:https://www.santceloni.cat/document.php?id=21630
END:VEVENT
END:VCALENDAR