BEGIN:VCALENDAR
VERSION:2.0
PRODID:-//Plone.org//NONSGML plone.app.event//EN
X-WR-TIMEZONE:Europe/Madrid
BEGIN:VEVENT
SUMMARY:Swing a l'Ateneu
DTSTART;TZID=Europe/Madrid;VALUE=DATE-TIME:20181116T191500
DTEND;TZID=Europe/Madrid;VALUE=DATE-TIME:20181116T201500
DTSTAMP;VALUE=DATE-TIME:20260422T034547Z
UID:4ecde21bbec7be0f653e5f94721975bc
CREATED;VALUE=DATE-TIME:20181116T000000Z
CATEGORIES:Dansa
LOCATION:Teatre Ateneu, Sala Petita - Ctra. Vella, 25
ORGANIZER:Swingangsters del Montseny
COMMENT:Preu: Taller de Swing: 5 &euro;. Jam: entrada lliure
Durada: De 19.15 a 22.15 h.
DESCRIPTION:Taller de Swing i Jam (ball obert per a tothom )
URL:https://www.santceloni.cat/document.php?id=21648
END:VEVENT
END:VCALENDAR