BEGIN:VCALENDAR
VERSION:2.0
PRODID:-//Plone.org//NONSGML plone.app.event//EN
X-WR-TIMEZONE:Europe/Madrid
BEGIN:VEVENT
SUMMARY:Taller de Marxa nòrdica
DTSTART;TZID=Europe/Madrid;VALUE=DATE-TIME:20181114T150000
DTEND;TZID=Europe/Madrid;VALUE=DATE-TIME:20181114T160000
DTSTAMP;VALUE=DATE-TIME:20260420T101639Z
UID:11e561afdfcfe731d4e8a2fbb6d0ca6f
CREATED;VALUE=DATE-TIME:20181114T000000Z
CATEGORIES:Esports
LOCATION:Pavelló del Pont Trencat (Sta. Maria de Palautordera)
ORGANIZER:Banc de Temps
COMMENT:Preu: Intercanvi de temps
Durada: Dues hores
DESCRIPTION:Activitats del Banc del Temps
URL:https://www.santceloni.cat/document.php?id=21713
END:VEVENT
END:VCALENDAR