BEGIN:VCALENDAR
VERSION:2.0
PRODID:-//Plone.org//NONSGML plone.app.event//EN
X-WR-TIMEZONE:Europe/Madrid
BEGIN:VEVENT
SUMMARY:Mostra Animalari - Petits Artistes CME
DTSTART;TZID=Europe/Madrid;VALUE=DATE-TIME:20181204T180000
DTEND;TZID=Europe/Madrid;VALUE=DATE-TIME:20181204T190000
DTSTAMP;VALUE=DATE-TIME:20260421T160518Z
UID:d8967d0434acaaf58e5c6aaf7d7e3ed8
CREATED;VALUE=DATE-TIME:20181204T000000Z
CATEGORIES:Mostra,Música,Teatre
LOCATION:Centre Municipal d'Expressió - Sant Josep, 18
ORGANIZER:Centre Municipal d'Expressió
COMMENT:Preu: Gratuït
Durada: 60 minuts
URL:https://www.santceloni.cat/document.php?id=21759
END:VEVENT
END:VCALENDAR