BEGIN:VCALENDAR
VERSION:2.0
PRODID:-//Plone.org//NONSGML plone.app.event//EN
X-WR-TIMEZONE:Europe/Madrid
BEGIN:VEVENT
SUMMARY:Tastets de Nadal a Sant Ponç
DTSTART;TZID=Europe/Madrid;VALUE=DATE-TIME:20181220T193000
DTEND;TZID=Europe/Madrid;VALUE=DATE-TIME:20181220T203000
DTSTAMP;VALUE=DATE-TIME:20260422T042114Z
UID:35c9b5c5c9771cd0d638aa99bccf1bd4
CREATED;VALUE=DATE-TIME:20181220T000000Z
CATEGORIES:Mostra,Música
LOCATION:Plaça Rafael Ferrer (Sant Ponç) - Plaça Rafael Ferrer (Sant Ponç)
ORGANIZER:Escola Municipal de Música
COMMENT:Preu: Gratuït
Durada: 45 minuts
DESCRIPTION:Actuació dels grups Combo Green i Combo Lab
URL:https://www.santceloni.cat/document.php?id=21771
END:VEVENT
END:VCALENDAR