BEGIN:VCALENDAR
VERSION:2.0
PRODID:-//Plone.org//NONSGML plone.app.event//EN
X-WR-TIMEZONE:Europe/Madrid
BEGIN:VEVENT
SUMMARY:La Marató 2018
DTSTART;TZID=Europe/Madrid;VALUE=DATE-TIME:20181119T000000
DTEND;TZID=Europe/Madrid;VALUE=DATE-TIME:20181119T010000
DTSTAMP;VALUE=DATE-TIME:20260420T102530Z
UID:ae9a72372a807491d1f7fcad6ffedfc6
CREATED;VALUE=DATE-TIME:20181119T000000Z
CATEGORIES:Literatura,Infantils
LOCATION:Biblioteca l'Escorxador - Pg. de la Rectoria Vella, 10
DESCRIPTION:Actes de dilluns, 19
URL:https://www.santceloni.cat/document.php?id=21774
END:VEVENT
END:VCALENDAR