BEGIN:VCALENDAR
VERSION:2.0
PRODID:-//Plone.org//NONSGML plone.app.event//EN
X-WR-TIMEZONE:Europe/Madrid
BEGIN:VEVENT
SUMMARY:Cercavila de gegants i Cantada de Nadales
DTSTART;TZID=Europe/Madrid;VALUE=DATE-TIME:20181222T120000
DTEND;TZID=Europe/Madrid;VALUE=DATE-TIME:20181222T130000
DTSTAMP;VALUE=DATE-TIME:20260423T012527Z
UID:24ec30457099b004413d2f8d3e1b40d4
CREATED;VALUE=DATE-TIME:20181222T000000Z
CATEGORIES:Festa,Infantils,Música
LOCATION:Plaça de la Vila - Plaça de la Vila
DESCRIPTION:Activitats de Nadal
URL:https://www.santceloni.cat/document.php?id=21838
END:VEVENT
END:VCALENDAR