BEGIN:VCALENDAR
VERSION:2.0
PRODID:-//Plone.org//NONSGML plone.app.event//EN
X-WR-TIMEZONE:Europe/Madrid
BEGIN:VEVENT
SUMMARY:Teatre: Políticament Incorrecte, amb Rebrot Teatre
DTSTART;TZID=Europe/Madrid;VALUE=DATE-TIME:20190126T200000
DTEND;TZID=Europe/Madrid;VALUE=DATE-TIME:20190126T210000
DTSTAMP;VALUE=DATE-TIME:20260421T210358Z
UID:435a1c55567aee3ef55bab19d6a029c1
CREATED;VALUE=DATE-TIME:20190126T000000Z
CATEGORIES:Teatre
LOCATION:Teatre Ateneu, Sala Gran - Ctra. Vella, 25
COMMENT:Preu: 12 
Durada: 90 minuts
DESCRIPTION:Programació Teatre Ateneu
URL:https://www.santceloni.cat/document.php?id=21934
END:VEVENT
END:VCALENDAR