BEGIN:VCALENDAR
VERSION:2.0
PRODID:-//Plone.org//NONSGML plone.app.event//EN
X-WR-TIMEZONE:Europe/Madrid
BEGIN:VEVENT
SUMMARY:Assessories personalitzades de mobilitat internacional
DTSTART;TZID=Europe/Madrid;VALUE=DATE-TIME:20190220T170000
DTEND;TZID=Europe/Madrid;VALUE=DATE-TIME:20190220T180000
DTSTAMP;VALUE=DATE-TIME:20260421T122930Z
UID:0c56ce596354ccc14086ba75dc378ae4
CREATED;VALUE=DATE-TIME:20190220T000000Z
LOCATION:Sax Sala - Montserrat, 28
COMMENT:Durada: De 17 a 20 h
DESCRIPTION:Per a joves de 17 a 30 anys
URL:https://www.santceloni.cat/document.php?id=22034
END:VEVENT
END:VCALENDAR