BEGIN:VCALENDAR
VERSION:2.0
PRODID:-//Plone.org//NONSGML plone.app.event//EN
X-WR-TIMEZONE:Europe/Madrid
BEGIN:VEVENT
SUMMARY:Dia de la Poesia
DTSTART;TZID=Europe/Madrid;VALUE=DATE-TIME:20190321T180000
DTEND;TZID=Europe/Madrid;VALUE=DATE-TIME:20190321T190000
DTSTAMP;VALUE=DATE-TIME:20260423T052836Z
UID:e5a6632e11b937c914a6fe47216ea2a4
CREATED;VALUE=DATE-TIME:20190321T000000Z
LOCATION:Biblioteca l'Escorxador - Pg. de la Rectoria Vella, 10
DESCRIPTION:Lectura conjunta de poemes i espectacle de dansa i poesia
URL:https://www.santceloni.cat/document.php?id=22039
END:VEVENT
END:VCALENDAR