BEGIN:VCALENDAR
VERSION:2.0
PRODID:-//Plone.org//NONSGML plone.app.event//EN
X-WR-TIMEZONE:Europe/Madrid
BEGIN:VEVENT
SUMMARY:Jornada de portes obertes a l'escola l'Avet Roig
DTSTART;TZID=Europe/Madrid;VALUE=DATE-TIME:20190309T103000
DTEND;TZID=Europe/Madrid;VALUE=DATE-TIME:20190309T113000
DTSTAMP;VALUE=DATE-TIME:20260423T011237Z
UID:2fbf859134e0224c0ee894e6b5c62273
CREATED;VALUE=DATE-TIME:20190309T000000Z
LOCATION:Escola l'Avet Roig
COMMENT:Durada: De les 10.30 a les 13 h
URL:https://www.santceloni.cat/document.php?id=22086
END:VEVENT
END:VCALENDAR