BEGIN:VCALENDAR
VERSION:2.0
PRODID:-//Plone.org//NONSGML plone.app.event//EN
X-WR-TIMEZONE:Europe/Madrid
BEGIN:VEVENT
SUMMARY:Jornada de portes obertes a l'institut escola La Tordera
DTSTART;TZID=Europe/Madrid;VALUE=DATE-TIME:20190314T101500
DTEND;TZID=Europe/Madrid;VALUE=DATE-TIME:20190314T111500
DTSTAMP;VALUE=DATE-TIME:20260423T184527Z
UID:e54b9e735e0c617b5dad17eac2e8305b
CREATED;VALUE=DATE-TIME:20190314T000000Z
LOCATION:Institut escola La Tordera
COMMENT:Durada: De les 10.15 a les 12.15 h i de les 15 a les 16.30 h
URL:https://www.santceloni.cat/document.php?id=22090
END:VEVENT
END:VCALENDAR