BEGIN:VCALENDAR
VERSION:2.0
PRODID:-//Plone.org//NONSGML plone.app.event//EN
X-WR-TIMEZONE:Europe/Madrid
BEGIN:VEVENT
SUMMARY:Audició d'Ampliació - Alumnat de l'escola municipal de música
DTSTART;TZID=Europe/Madrid;VALUE=DATE-TIME:20190212T200000
DTEND;TZID=Europe/Madrid;VALUE=DATE-TIME:20190212T210000
DTSTAMP;VALUE=DATE-TIME:20260422T172826Z
UID:cc4b211cc9b0db94c28f2b9f8b6db604
CREATED;VALUE=DATE-TIME:20190212T000000Z
CATEGORIES:Música
LOCATION:Centre Municipal d'Expressió - Sant Josep, 18
ORGANIZER:Escola Municipal de Música
COMMENT:Durada: 60 minuts
URL:https://www.santceloni.cat/document.php?id=22128
END:VEVENT
END:VCALENDAR