BEGIN:VCALENDAR
VERSION:2.0
PRODID:-//Plone.org//NONSGML plone.app.event//EN
X-WR-TIMEZONE:Europe/Madrid
BEGIN:VEVENT
SUMMARY:Classe oberta al Taller - Escola municipal de música
DTSTART;TZID=Europe/Madrid;VALUE=DATE-TIME:20190220T183000
DTEND;TZID=Europe/Madrid;VALUE=DATE-TIME:20190220T193000
DTSTAMP;VALUE=DATE-TIME:20260421T092437Z
UID:b1b9c3e0d241351ac17e264854de9c3c
CREATED;VALUE=DATE-TIME:20190220T000000Z
CATEGORIES:Música
LOCATION:Centre Municipal d'Expressió - Sant Josep, 18
ORGANIZER:Escola Municipal de Música
COMMENT:Preu: Gratuït
Durada: 60 minuts
URL:https://www.santceloni.cat/document.php?id=22132
END:VEVENT
END:VCALENDAR