BEGIN:VCALENDAR
VERSION:2.0
PRODID:-//Plone.org//NONSGML plone.app.event//EN
X-WR-TIMEZONE:Europe/Madrid
BEGIN:VEVENT
SUMMARY:Taller de defensa personal per dones
DTSTART;TZID=Europe/Madrid;VALUE=DATE-TIME:20190308T180000
DTEND;TZID=Europe/Madrid;VALUE=DATE-TIME:20190308T190000
DTSTAMP;VALUE=DATE-TIME:20260422T140344Z
UID:374e2ca7c5441e2355b0e498ce41ab2c
CREATED;VALUE=DATE-TIME:20190308T000000Z
CATEGORIES:Esports,Cursos
LOCATION:Plaça de l'Església (la Batllòria) - Plaça de l'Església (la Batllòria)
DESCRIPTION:Dia Internacional de les Dones 2019
URL:https://www.santceloni.cat/document.php?id=22285
END:VEVENT
END:VCALENDAR