BEGIN:VCALENDAR
VERSION:2.0
PRODID:-//Plone.org//NONSGML plone.app.event//EN
X-WR-TIMEZONE:Europe/Madrid
BEGIN:VEVENT
SUMMARY:Cinema: Lucky, de John Carroll Lynch
DTSTART;TZID=Europe/Madrid;VALUE=DATE-TIME:20190301T203000
DTEND;TZID=Europe/Madrid;VALUE=DATE-TIME:20190301T213000
DTSTAMP;VALUE=DATE-TIME:20260422T221656Z
UID:338074426e987ad6960f3ee88f0fe77b
CREATED;VALUE=DATE-TIME:20190301T000000Z
CATEGORIES:Cinema
LOCATION:Sales Ocine - Centre Comercial Altrium - Ctra. C-35 (Porta de ponent)
COMMENT:Preu: 4,50 
Durada: 88 min.
DESCRIPTION:Programació VOAltrium
URL:https://www.santceloni.cat/document.php?id=22349
END:VEVENT
END:VCALENDAR