BEGIN:VCALENDAR
VERSION:2.0
PRODID:-//Plone.org//NONSGML plone.app.event//EN
X-WR-TIMEZONE:Europe/Madrid
BEGIN:VEVENT
SUMMARY:Cinema en VO: Lady Bird
DTSTART;TZID=Europe/Madrid;VALUE=DATE-TIME:20190412T203000
DTEND;TZID=Europe/Madrid;VALUE=DATE-TIME:20190412T213000
DTSTAMP;VALUE=DATE-TIME:20260422T013813Z
UID:52c0dd524f326f2f863fed840831d157
CREATED;VALUE=DATE-TIME:20190412T000000Z
CATEGORIES:Cinema
LOCATION:Sales Ocine - Ctra. C-35 (Porta de ponent)
COMMENT:Preu: 4,50 
Durada: 94 min.
DESCRIPTION:Programació VOAltrium
URL:https://www.santceloni.cat/document.php?id=22356
END:VEVENT
END:VCALENDAR