BEGIN:VCALENDAR
VERSION:2.0
PRODID:-//Plone.org//NONSGML plone.app.event//EN
X-WR-TIMEZONE:Europe/Madrid
BEGIN:VEVENT
SUMMARY:VI Mini Open de Tennis Taula
DTSTART;TZID=Europe/Madrid;VALUE=DATE-TIME:20190316T090000
DTEND;TZID=Europe/Madrid;VALUE=DATE-TIME:20190316T100000
DTSTAMP;VALUE=DATE-TIME:20260423T154050Z
UID:5e7e773f947de3efef83edeec54f5520
CREATED;VALUE=DATE-TIME:20190316T000000Z
CATEGORIES:Esports
LOCATION:Pavelló Municipal d'Esports - Av. Catalunya, s/n
ORGANIZER:CATT Sant Celoni
COMMENT:Preu: 5 &euro;
Durada: Matí
DESCRIPTION:Per a jugador/es aficionats
URL:https://www.santceloni.cat/document.php?id=22513
END:VEVENT
END:VCALENDAR