BEGIN:VCALENDAR
VERSION:2.0
PRODID:-//Plone.org//NONSGML plone.app.event//EN
X-WR-TIMEZONE:Europe/Madrid
BEGIN:VEVENT
SUMMARY:Robotseny 2019
DTSTART;TZID=Europe/Madrid;VALUE=DATE-TIME:20190608T100000
DTEND;TZID=Europe/Madrid;VALUE=DATE-TIME:20190608T110000
DTSTAMP;VALUE=DATE-TIME:20260422T161053Z
UID:46a02cf2941178634d0b8b8e65e449e4
CREATED;VALUE=DATE-TIME:20190608T000000Z
LOCATION:Plaça de la Vila i Teatre Ateneu - Plaça de la Vila
URL:https://www.santceloni.cat/document.php?id=22560
END:VEVENT
END:VCALENDAR