BEGIN:VCALENDAR
VERSION:2.0
PRODID:-//Plone.org//NONSGML plone.app.event//EN
X-WR-TIMEZONE:Europe/Madrid
BEGIN:VEVENT
SUMMARY:Marxa Nòrdica
DTSTART;TZID=Europe/Madrid;VALUE=DATE-TIME:20190326T120000
DTEND;TZID=Europe/Madrid;VALUE=DATE-TIME:20190326T130000
DTSTAMP;VALUE=DATE-TIME:20260423T052819Z
UID:02c80d9d53bce3297c41ac5847345aad
CREATED;VALUE=DATE-TIME:20190326T000000Z
CATEGORIES:Esports
LOCATION:Lloc de trobada: Pavelló del Pont Trencat
ORGANIZER:Banc de Temps
COMMENT:Preu: Intercanvi de temps
Durada: De 12h a 14h
DESCRIPTION:Taller d'aprenentatge
URL:https://www.santceloni.cat/document.php?id=22570
END:VEVENT
END:VCALENDAR