BEGIN:VCALENDAR
VERSION:2.0
PRODID:-//Plone.org//NONSGML plone.app.event//EN
X-WR-TIMEZONE:Europe/Madrid
BEGIN:VEVENT
SUMMARY:Festa de la República: fira, dinar, activitats
DTSTART;TZID=Europe/Madrid;VALUE=DATE-TIME:20190413T100000
DTEND;TZID=Europe/Madrid;VALUE=DATE-TIME:20190413T110000
DTSTAMP;VALUE=DATE-TIME:20260422T202051Z
UID:25ade72d1dd43091f05a72fb322a39e2
CREATED;VALUE=DATE-TIME:20190413T000000Z
CATEGORIES:Exposició,Mostra
LOCATION:Plaça de la Vila - Plaça de la Vila
ORGANIZER:ANC Sant Celoni
COMMENT:Durada: D'11 a 20 h
DESCRIPTION:Consum Estratègic
URL:https://www.santceloni.cat/document.php?id=22573
END:VEVENT
END:VCALENDAR