BEGIN:VCALENDAR
VERSION:2.0
PRODID:-//Plone.org//NONSGML plone.app.event//EN
X-WR-TIMEZONE:Europe/Madrid
BEGIN:VEVENT
SUMMARY:Venda entrades teatre: Nit de Sant Joan
DTSTART;TZID=Europe/Madrid;VALUE=DATE-TIME:20190413T170000
DTEND;TZID=Europe/Madrid;VALUE=DATE-TIME:20190413T180000
DTSTAMP;VALUE=DATE-TIME:20260421T161207Z
UID:6bf112e11e39f81d6d011874296ff001
CREATED;VALUE=DATE-TIME:20190413T000000Z
LOCATION:Plaça de l'Església - Plaça de l'Església
ORGANIZER:Rebrot Teatre
COMMENT:Durada: De 17 a 20 h
DESCRIPTION:Rebrot Teatre
URL:https://www.santceloni.cat/document.php?id=22619
END:VEVENT
END:VCALENDAR