BEGIN:VCALENDAR
VERSION:2.0
PRODID:-//Plone.org//NONSGML plone.app.event//EN
X-WR-TIMEZONE:Europe/Madrid
BEGIN:VEVENT
SUMMARY:Marxa Nòrdica: Taller d'aprenentatge
DTSTART;TZID=Europe/Madrid;VALUE=DATE-TIME:20190402T120000
DTEND;TZID=Europe/Madrid;VALUE=DATE-TIME:20190402T130000
DTSTAMP;VALUE=DATE-TIME:20260424T234154Z
UID:b588e333901309ed76be6d43f84abc15
CREATED;VALUE=DATE-TIME:20190402T000000Z
CATEGORIES:Esports
LOCATION:Pavelló del Pont Trencat (Punt de trobada)
ORGANIZER:Banc de Temps
COMMENT:Preu: Intercanvi de temps
Durada: De 12 a 14 h
DESCRIPTION:Activitats del Banc del Temps
URL:https://www.santceloni.cat/document.php?id=22672
END:VEVENT
END:VCALENDAR