BEGIN:VCALENDAR
VERSION:2.0
PRODID:-//Plone.org//NONSGML plone.app.event//EN
X-WR-TIMEZONE:Europe/Madrid
BEGIN:VEVENT
SUMMARY:Cantada d'Havaneres
DTSTART;TZID=Europe/Madrid;VALUE=DATE-TIME:20190530T160000
DTEND;TZID=Europe/Madrid;VALUE=DATE-TIME:20190530T170000
DTSTAMP;VALUE=DATE-TIME:20260422T153034Z
UID:6fc49ea5cf8ac62ff28decf9387a8a56
CREATED;VALUE=DATE-TIME:20190530T000000Z
CATEGORIES:Música
LOCATION:Casal de l'Esplai de Gent Gran - Balmes, 36
ORGANIZER:Esplai de la Gent Gran
COMMENT:Preu: Gratuït
DESCRIPTION:Activitats de l'Esplai de Gent Gran
URL:https://www.santceloni.cat/document.php?id=22758
END:VEVENT
END:VCALENDAR