BEGIN:VCALENDAR
VERSION:2.0
PRODID:-//Plone.org//NONSGML plone.app.event//EN
X-WR-TIMEZONE:Europe/Madrid
BEGIN:VEVENT
SUMMARY:VII Mini Open de Tennis Taula
DTSTART;TZID=Europe/Madrid;VALUE=DATE-TIME:20190413T090000
DTEND;TZID=Europe/Madrid;VALUE=DATE-TIME:20190413T100000
DTSTAMP;VALUE=DATE-TIME:20260422T031057Z
UID:e1038d903f2e24f27e3de1ce0213af95
CREATED;VALUE=DATE-TIME:20190413T000000Z
CATEGORIES:Esports
LOCATION:Pavelló Municipal d'Esports - Av. Catalunya, s/n
ORGANIZER:CATT Sant Celoni
COMMENT:Preu: 5 &euro;
Durada: Matí
DESCRIPTION:Per a jugador/es aficionats
URL:https://www.santceloni.cat/document.php?id=22760
END:VEVENT
END:VCALENDAR