BEGIN:VCALENDAR
VERSION:2.0
PRODID:-//Plone.org//NONSGML plone.app.event//EN
X-WR-TIMEZONE:Europe/Madrid
BEGIN:VEVENT
SUMMARY:Donació de Sang
DTSTART;TZID=Europe/Madrid;VALUE=DATE-TIME:20190525T100000
DTEND;TZID=Europe/Madrid;VALUE=DATE-TIME:20190525T110000
DTSTAMP;VALUE=DATE-TIME:20260422T011407Z
UID:b0f94844087ab9d27a1a7a1583a1a874
CREATED;VALUE=DATE-TIME:20190525T000000Z
LOCATION:Can Ramis - Pl. de la Vila, 25
ORGANIZER:Associació de donants de sang
COMMENT:Durada: De 10 a 21 hores
URL:https://www.santceloni.cat/document.php?id=22794
END:VEVENT
END:VCALENDAR