BEGIN:VCALENDAR
VERSION:2.0
PRODID:-//Plone.org//NONSGML plone.app.event//EN
X-WR-TIMEZONE:Europe/Madrid
BEGIN:VEVENT
SUMMARY:Teatre: La Casa de Bernarda Alba. Últimes entrades!
DTSTART;TZID=Europe/Madrid;VALUE=DATE-TIME:20190609T180000
DTEND;TZID=Europe/Madrid;VALUE=DATE-TIME:20190609T190000
DTSTAMP;VALUE=DATE-TIME:20260420T173816Z
UID:17723995ea021e072d813b599c2e054d
CREATED;VALUE=DATE-TIME:20190609T000000Z
CATEGORIES:Teatre
LOCATION:Teatre Ateneu, Sala Petita - Ctra. Vella, 25
ORGANIZER:Trocateatre
COMMENT:Preu: 5 
Durada: 75 minuts
DESCRIPTION:Trocateatre
URL:https://www.santceloni.cat/document.php?id=23011
END:VEVENT
END:VCALENDAR