BEGIN:VCALENDAR
VERSION:2.0
PRODID:-//Plone.org//NONSGML plone.app.event//EN
X-WR-TIMEZONE:Europe/Madrid
BEGIN:VEVENT
SUMMARY:Cinema: Selecció de curts d'animació
DTSTART;TZID=Europe/Madrid;VALUE=DATE-TIME:20190718T220000
DTEND;TZID=Europe/Madrid;VALUE=DATE-TIME:20190718T230000
DTSTAMP;VALUE=DATE-TIME:20260421T085138Z
UID:5a7c83f126de47798a15e0a814164b04
CREATED;VALUE=DATE-TIME:20190718T000000Z
CATEGORIES:Cinema
LOCATION:Plaça Rafael Ferrer (Sant Ponç) - Plaça Rafael Ferrer (Sant Ponç)
DESCRIPTION:Dijous a la fresca
URL:https://www.santceloni.cat/document.php?id=23232
END:VEVENT
END:VCALENDAR