BEGIN:VCALENDAR
VERSION:2.0
PRODID:-//Plone.org//NONSGML plone.app.event//EN
X-WR-TIMEZONE:Europe/Madrid
BEGIN:VEVENT
SUMMARY:Música: Dies millors, concert acústic de Joan Rovira
DTSTART;TZID=Europe/Madrid;VALUE=DATE-TIME:20190829T220000
DTEND;TZID=Europe/Madrid;VALUE=DATE-TIME:20190829T230000
DTSTAMP;VALUE=DATE-TIME:20260420T192452Z
UID:40bb76a724ea479750ae4a0c7b185676
CREATED;VALUE=DATE-TIME:20190829T000000Z
CATEGORIES:Música
LOCATION:Jardins Rectoria Vella - Parc de la Rectoria Vella, s/n
COMMENT:Durada: 60 minuts
DESCRIPTION:Dijous a la fresca
URL:https://www.santceloni.cat/document.php?id=23238
END:VEVENT
END:VCALENDAR