BEGIN:VCALENDAR
VERSION:2.0
PRODID:-//Plone.org//NONSGML plone.app.event//EN
X-WR-TIMEZONE:Europe/Madrid
BEGIN:VEVENT
SUMMARY:Xerrada: Lluita LGTB
DTSTART;TZID=Europe/Madrid;VALUE=DATE-TIME:20190721T200000
DTEND;TZID=Europe/Madrid;VALUE=DATE-TIME:20190721T210000
DTSTAMP;VALUE=DATE-TIME:20260420T220537Z
UID:906bf7ee0b6a05ec0255134493d68e75
CREATED;VALUE=DATE-TIME:20190721T000000Z
CATEGORIES:Conferència
LOCATION:Rectoria Vella - Parc de la Rectoria Vella, s/n
ORGANIZER:Assemblea de joves de Sant Celoni
DESCRIPTION:Cicle de xerrades Àgora
URL:https://www.santceloni.cat/document.php?id=23265
END:VEVENT
END:VCALENDAR