BEGIN:VCALENDAR
VERSION:2.0
PRODID:-//Plone.org//NONSGML plone.app.event//EN
X-WR-TIMEZONE:Europe/Madrid
BEGIN:VEVENT
SUMMARY:Petita hora del conte: Pastís d'aniversari, a càrrec de Mercè Rubí. Cal inscripció prèvia
DTSTART;TZID=Europe/Madrid;VALUE=DATE-TIME:20190913T171500
DTEND;TZID=Europe/Madrid;VALUE=DATE-TIME:20190913T181500
DTSTAMP;VALUE=DATE-TIME:20260421T071438Z
UID:66a171ba0a7ba79efd113660a5c82b6a
CREATED;VALUE=DATE-TIME:20190913T000000Z
CATEGORIES:Infantils
LOCATION:Biblioteca l'Escorxador - Pg. de la Rectoria Vella, 10
URL:https://www.santceloni.cat/document.php?id=23410
END:VEVENT
END:VCALENDAR