BEGIN:VCALENDAR
VERSION:2.0
PRODID:-//Plone.org//NONSGML plone.app.event//EN
X-WR-TIMEZONE:Europe/Madrid
BEGIN:VEVENT
SUMMARY:Ball a l'Esplai amb Silvia
DTSTART;TZID=Europe/Madrid;VALUE=DATE-TIME:20191117T173000
DTEND;TZID=Europe/Madrid;VALUE=DATE-TIME:20191117T183000
DTSTAMP;VALUE=DATE-TIME:20260421T022514Z
UID:3418028cc30e6b126a822b0ff2b14246
CREATED;VALUE=DATE-TIME:20191117T000000Z
CATEGORIES:Música
LOCATION:Casal de l'Esplai de Gent Gran - Balmes, 36
COMMENT:Preu: 4 &euro; socis, 5 &euro; no socis
DESCRIPTION:Activitats de l'Esplai de Gent Gran
URL:https://www.santceloni.cat/document.php?id=23557
END:VEVENT
END:VCALENDAR